BEGIN:VCALENDAR
VERSION:2.0
PRODID:-//https://debieb.nl///NONSGML kigkonsult.se iCalcreator 2.10.15//
METHOD:PUBLISH
BEGIN:VEVENT
UID:20260425T105936UTC-6996rusu1l@https://debieb.nl/
DTSTAMP:20260425T105936Z
DESCRIPTION:Klik op 'Deelnemen' om je in te schrijven voor deze dag en tijd
 . Bedankt! https://debieb.nl/voorlezen-zaandam/evenement/64346-voorlezen-i
 n-de-bieb-zaandam
DTSTART:20260429T130000Z
DTEND:20260429T140000Z
LOCATION:De Bieb Zaandam (Westzijde 170A\, 1506 EK Zaandam\, Nederland)
SUMMARY:Voorlezen in De Bieb Zaandam
URL:https://debieb.nl/voorlezen-zaandam/evenement/64346-voorlezen-in-de-bie
 b-zaandam
END:VEVENT
END:VCALENDAR
